BEGIN:VCALENDAR
VERSION:2.0
PRODID:spatie/icalendar-generator
BEGIN:VTIMEZONE
TZID:UTC
BEGIN:STANDARD
DTSTART:20250728T011809
TZOFFSETFROM:+0000
TZOFFSETTO:+0000
END:STANDARD
END:VTIMEZONE
BEGIN:VEVENT
UID:69eac4d1e2f16
DTSTAMP:20260424T011809Z
SUMMARY:GROUP HUG - Die Impro Show
DTSTART:20260808T173000Z
DTEND:20260808T193000Z
END:VEVENT
END:VCALENDAR