BEGIN:VCALENDAR
VERSION:2.0
PRODID:spatie/icalendar-generator
BEGIN:VTIMEZONE
TZID:UTC
BEGIN:STANDARD
DTSTART:20250728T011713
TZOFFSETFROM:+0000
TZOFFSETTO:+0000
END:STANDARD
END:VTIMEZONE
BEGIN:VEVENT
UID:69eac499b4177
DTSTAMP:20260424T011713Z
SUMMARY:GROUP HUG - Die Impro Show
DTSTART:20260711T173000Z
DTEND:20260711T193000Z
END:VEVENT
END:VCALENDAR