BEGIN:VCALENDAR
VERSION:2.0
PRODID:spatie/icalendar-generator
BEGIN:VTIMEZONE
TZID:UTC
BEGIN:STANDARD
DTSTART:20250728T010746
TZOFFSETFROM:+0000
TZOFFSETTO:+0000
END:STANDARD
END:VTIMEZONE
BEGIN:VEVENT
UID:69eac2621252b
DTSTAMP:20260424T010746Z
SUMMARY:GROUP HUG - Die Impro Show
DTSTART:20260509T173000Z
DTEND:20260509T193000Z
END:VEVENT
END:VCALENDAR