BEGIN:VCALENDAR
VERSION:2.0
PRODID:spatie/icalendar-generator
BEGIN:VTIMEZONE
TZID:UTC
BEGIN:STANDARD
DTSTART:20250728T024517
TZOFFSETFROM:+0000
TZOFFSETTO:+0000
END:STANDARD
END:VTIMEZONE
BEGIN:VEVENT
UID:69ead93dca394
DTSTAMP:20260424T024517Z
SUMMARY:Café Colibri - Deutsch sprechen auf der Rheinau
DTSTART:20260429T080000Z
DTEND:20260429T090000Z
END:VEVENT
END:VCALENDAR