BEGIN:VCALENDAR
VERSION:2.0
PRODID:spatie/icalendar-generator
BEGIN:VTIMEZONE
TZID:UTC
BEGIN:STANDARD
DTSTART:20250728T024356
TZOFFSETFROM:+0000
TZOFFSETTO:+0000
END:STANDARD
END:VTIMEZONE
BEGIN:VEVENT
UID:69ead8ec9b220
DTSTAMP:20260424T024356Z
SUMMARY:Dio Alive - A Tribute to Ronnie James Dio
DTSTART:20270403T180000Z
DTEND:20270403T180000Z
END:VEVENT
END:VCALENDAR