BEGIN:VCALENDAR
VERSION:2.0
PRODID:spatie/icalendar-generator
BEGIN:VTIMEZONE
TZID:UTC
BEGIN:STANDARD
DTSTART:20250728T024607
TZOFFSETFROM:+0000
TZOFFSETTO:+0000
END:STANDARD
END:VTIMEZONE
BEGIN:VEVENT
UID:69ead96fe4ed6
DTSTAMP:20260424T024607Z
SUMMARY:Workshop: Theatergruppe K5
DTSTART:20260624T120000Z
DTEND:20260624T133000Z
END:VEVENT
END:VCALENDAR