BEGIN:VCALENDAR
VERSION:2.0
PRODID:spatie/icalendar-generator
BEGIN:VTIMEZONE
TZID:UTC
BEGIN:STANDARD
DTSTART:20250728T023739
TZOFFSETFROM:+0000
TZOFFSETTO:+0000
END:STANDARD
END:VTIMEZONE
BEGIN:VEVENT
UID:69ead773dcb3a
DTSTAMP:20260424T023739Z
SUMMARY:Workshop: Theatergruppe K5
DTSTART:20260520T120000Z
DTEND:20260520T133000Z
END:VEVENT
END:VCALENDAR