BEGIN:VCALENDAR
VERSION:2.0
PRODID:spatie/icalendar-generator
BEGIN:VTIMEZONE
TZID:UTC
BEGIN:STANDARD
DTSTART:20250728T040926
TZOFFSETFROM:+0000
TZOFFSETTO:+0000
END:STANDARD
END:VTIMEZONE
BEGIN:VEVENT
UID:69eaecf6197ae
DTSTAMP:20260424T040926Z
SUMMARY:Öffentliche Führung durch die Stadtgeschichtliche Ausstellung
DTSTART:20260719T130000Z
DTEND:20260719T140000Z
END:VEVENT
END:VCALENDAR