BEGIN:VCALENDAR
VERSION:2.0
PRODID:spatie/icalendar-generator
BEGIN:VTIMEZONE
TZID:UTC
BEGIN:STANDARD
DTSTART:20250728T040330
TZOFFSETFROM:+0000
TZOFFSETTO:+0000
END:STANDARD
END:VTIMEZONE
BEGIN:VEVENT
UID:69eaeb92542a7
DTSTAMP:20260424T040330Z
SUMMARY:Bülent Ceylan - Diktatürk
DTSTART:20270424T170000Z
DTEND:20270424T170000Z
END:VEVENT
END:VCALENDAR