BEGIN:VCALENDAR
VERSION:2.0
PRODID:spatie/icalendar-generator
BEGIN:VTIMEZONE
TZID:UTC
BEGIN:STANDARD
DTSTART:20250728T035241
TZOFFSETFROM:+0000
TZOFFSETTO:+0000
END:STANDARD
END:VTIMEZONE
BEGIN:VEVENT
UID:69eae909d35ca
DTSTAMP:20260424T035241Z
SUMMARY:Maimarkt Mannheim
DTSTART:20260501T070000Z
DTEND:20260501T070000Z
END:VEVENT
END:VCALENDAR