BEGIN:VCALENDAR
VERSION:2.0
PRODID:spatie/icalendar-generator
BEGIN:VTIMEZONE
TZID:UTC
BEGIN:STANDARD
DTSTART:20250728T040926
TZOFFSETFROM:+0000
TZOFFSETTO:+0000
END:STANDARD
END:VTIMEZONE
BEGIN:VEVENT
UID:69eaecf613458
DTSTAMP:20260424T040926Z
SUMMARY:Maimarkt Mannheim
DTSTART:20260429T070000Z
DTEND:20260429T070000Z
END:VEVENT
END:VCALENDAR