BEGIN:VCALENDAR
VERSION:2.0
PRODID:spatie/icalendar-generator
BEGIN:VTIMEZONE
TZID:UTC
BEGIN:STANDARD
DTSTART:20250728T040855
TZOFFSETFROM:+0000
TZOFFSETTO:+0000
END:STANDARD
END:VTIMEZONE
BEGIN:VEVENT
UID:69eaecd79c15f
DTSTAMP:20260424T040855Z
SUMMARY:Maimarkt Mannheim
DTSTART:20260427T070000Z
DTEND:20260427T070000Z
END:VEVENT
END:VCALENDAR