BEGIN:VCALENDAR
VERSION:2.0
PRODID:spatie/icalendar-generator
BEGIN:VTIMEZONE
TZID:UTC
BEGIN:STANDARD
DTSTART:20250728T041033
TZOFFSETFROM:+0000
TZOFFSETTO:+0000
END:STANDARD
END:VTIMEZONE
BEGIN:VEVENT
UID:69eaed39e98c3
DTSTAMP:20260424T041033Z
SUMMARY:Maimarkt Mannheim
DTSTART:20260425T070000Z
DTEND:20260425T070000Z
END:VEVENT
END:VCALENDAR