BEGIN:VCALENDAR
VERSION:2.0
PRODID:spatie/icalendar-generator
BEGIN:VTIMEZONE
TZID:UTC
BEGIN:STANDARD
DTSTART:20250728T041034
TZOFFSETFROM:+0000
TZOFFSETTO:+0000
END:STANDARD
END:VTIMEZONE
BEGIN:VEVENT
UID:69eaed3a6c6b1
DTSTAMP:20260424T041034Z
SUMMARY:Samenspender gesucht!
DTSTART:20260529T180000Z
DTEND:20260529T203000Z
END:VEVENT
END:VCALENDAR