BEGIN:VCALENDAR
VERSION:2.0
PRODID:spatie/icalendar-generator
BEGIN:VTIMEZONE
TZID:UTC
BEGIN:STANDARD
DTSTART:20250728T082054
TZOFFSETFROM:+0000
TZOFFSETTO:+0000
END:STANDARD
END:VTIMEZONE
BEGIN:VEVENT
UID:69eb27e6e7e31
DTSTAMP:20260424T082054Z
SUMMARY:Duo Stiehler/Lucaciu
DTSTART:20261216T190000Z
DTEND:20261216T190000Z
END:VEVENT
END:VCALENDAR