BEGIN:VCALENDAR
VERSION:2.0
PRODID:spatie/icalendar-generator
BEGIN:VTIMEZONE
TZID:UTC
BEGIN:STANDARD
DTSTART:20250728T081728
TZOFFSETFROM:+0000
TZOFFSETTO:+0000
END:STANDARD
END:VTIMEZONE
BEGIN:VEVENT
UID:69eb2718d4ca1
DTSTAMP:20260424T081728Z
SUMMARY:Grave Digger - Legends Never Die Tour
DTSTART:20270129T180000Z
DTEND:20270129T180000Z
END:VEVENT
END:VCALENDAR