BEGIN:VCALENDAR
VERSION:2.0
PRODID:spatie/icalendar-generator
BEGIN:VTIMEZONE
TZID:UTC
BEGIN:STANDARD
DTSTART:20250728T082855
TZOFFSETFROM:+0000
TZOFFSETTO:+0000
END:STANDARD
END:VTIMEZONE
BEGIN:VEVENT
UID:69eb29c72389e
DTSTAMP:20260424T082855Z
SUMMARY:BollWERK Trio mit Barbara Boll\, Patrick Embach und Chiara Metzner
DTSTART:20260504T180000Z
DTEND:20260504T180000Z
END:VEVENT
END:VCALENDAR