BEGIN:VCALENDAR
VERSION:2.0
PRODID:spatie/icalendar-generator
BEGIN:VTIMEZONE
TZID:UTC
BEGIN:STANDARD
DTSTART:20250727T112113
TZOFFSETFROM:+0000
TZOFFSETTO:+0000
END:STANDARD
END:VTIMEZONE
BEGIN:VEVENT
UID:69ea00a971a20
DTSTAMP:20260423T112113Z
SUMMARY:Kräuterführung
DTSTART:20260531T080000Z
DTEND:20260531T103000Z
END:VEVENT
END:VCALENDAR