BEGIN:VCALENDAR
VERSION:2.0
PRODID:spatie/icalendar-generator
BEGIN:VTIMEZONE
TZID:UTC
BEGIN:STANDARD
DTSTART:20250727T125014
TZOFFSETFROM:+0000
TZOFFSETTO:+0000
END:STANDARD
END:VTIMEZONE
BEGIN:VEVENT
UID:69ea1586c584a
DTSTAMP:20260423T125014Z
SUMMARY:PARTHO SAROTHY (Indien) feat. FARID BANERJEE (Afghanistan) // Indis
 che klassische Musik
DTSTART:20260528T180000Z
DTEND:20260528T180000Z
END:VEVENT
END:VCALENDAR