BEGIN:VCALENDAR
VERSION:2.0
PRODID:spatie/icalendar-generator
BEGIN:VTIMEZONE
TZID:UTC
BEGIN:STANDARD
DTSTART:20250727T123612
TZOFFSETFROM:+0000
TZOFFSETTO:+0000
END:STANDARD
END:VTIMEZONE
BEGIN:VEVENT
UID:69ea123c11f41
DTSTAMP:20260423T123612Z
SUMMARY:Verstrickt. Kolonialismus und Mannheim
DTSTART:20260923T080000Z
DTEND:20260923T160000Z
END:VEVENT
END:VCALENDAR