BEGIN:VCALENDAR
VERSION:2.0
PRODID:spatie/icalendar-generator
BEGIN:VTIMEZONE
TZID:UTC
BEGIN:STANDARD
DTSTART:20250727T123504
TZOFFSETFROM:+0000
TZOFFSETTO:+0000
END:STANDARD
END:VTIMEZONE
BEGIN:VEVENT
UID:69ea11f8ec994
DTSTAMP:20260423T123504Z
SUMMARY:Verstrickt. Kolonialismus und Mannheim
DTSTART:20260913T080000Z
DTEND:20260913T160000Z
END:VEVENT
END:VCALENDAR