BEGIN:VCALENDAR
VERSION:2.0
PRODID:spatie/icalendar-generator
BEGIN:VTIMEZONE
TZID:UTC
BEGIN:STANDARD
DTSTART:20250727T123605
TZOFFSETFROM:+0000
TZOFFSETTO:+0000
END:STANDARD
END:VTIMEZONE
BEGIN:VEVENT
UID:69ea12352ecba
DTSTAMP:20260423T123605Z
SUMMARY:Verstrickt. Kolonialismus und Mannheim
DTSTART:20260912T080000Z
DTEND:20260912T160000Z
END:VEVENT
END:VCALENDAR