BEGIN:VCALENDAR
VERSION:2.0
PRODID:spatie/icalendar-generator
BEGIN:VTIMEZONE
TZID:UTC
BEGIN:STANDARD
DTSTART:20250727T123610
TZOFFSETFROM:+0000
TZOFFSETTO:+0000
END:STANDARD
END:VTIMEZONE
BEGIN:VEVENT
UID:69ea123ae5ce8
DTSTAMP:20260423T123610Z
SUMMARY:Verstrickt. Kolonialismus und Mannheim
DTSTART:20260908T080000Z
DTEND:20260908T160000Z
END:VEVENT
END:VCALENDAR