BEGIN:VCALENDAR
VERSION:2.0
PRODID:spatie/icalendar-generator
BEGIN:VTIMEZONE
TZID:UTC
BEGIN:STANDARD
DTSTART:20250727T141744
TZOFFSETFROM:+0000
TZOFFSETTO:+0000
END:STANDARD
END:VTIMEZONE
BEGIN:VEVENT
UID:69ea2a08c8355
DTSTAMP:20260423T141744Z
SUMMARY:Verstrickt. Kolonialismus und Mannheim
DTSTART:20260906T080000Z
DTEND:20260906T160000Z
END:VEVENT
END:VCALENDAR