BEGIN:VCALENDAR
VERSION:2.0
PRODID:spatie/icalendar-generator
BEGIN:VTIMEZONE
TZID:UTC
BEGIN:STANDARD
DTSTART:20250727T141903
TZOFFSETFROM:+0000
TZOFFSETTO:+0000
END:STANDARD
END:VTIMEZONE
BEGIN:VEVENT
UID:69ea2a57704f5
DTSTAMP:20260423T141903Z
SUMMARY:Verstrickt. Kolonialismus und Mannheim
DTSTART:20260902T080000Z
DTEND:20260902T160000Z
END:VEVENT
END:VCALENDAR