BEGIN:VCALENDAR
VERSION:2.0
PRODID:spatie/icalendar-generator
BEGIN:VTIMEZONE
TZID:UTC
BEGIN:STANDARD
DTSTART:20250727T141902
TZOFFSETFROM:+0000
TZOFFSETTO:+0000
END:STANDARD
END:VTIMEZONE
BEGIN:VEVENT
UID:69ea2a56dc562
DTSTAMP:20260423T141902Z
SUMMARY:Verstrickt. Kolonialismus und Mannheim
DTSTART:20260826T080000Z
DTEND:20260826T160000Z
END:VEVENT
END:VCALENDAR