BEGIN:VCALENDAR
VERSION:2.0
PRODID:spatie/icalendar-generator
BEGIN:VTIMEZONE
TZID:UTC
BEGIN:STANDARD
DTSTART:20250727T141819
TZOFFSETFROM:+0000
TZOFFSETTO:+0000
END:STANDARD
END:VTIMEZONE
BEGIN:VEVENT
UID:69ea2a2bd7f67
DTSTAMP:20260423T141819Z
SUMMARY:Verstrickt. Kolonialismus und Mannheim
DTSTART:20260822T080000Z
DTEND:20260822T160000Z
END:VEVENT
END:VCALENDAR