BEGIN:VCALENDAR
VERSION:2.0
PRODID:spatie/icalendar-generator
BEGIN:VTIMEZONE
TZID:UTC
BEGIN:STANDARD
DTSTART:20250727T141757
TZOFFSETFROM:+0000
TZOFFSETTO:+0000
END:STANDARD
END:VTIMEZONE
BEGIN:VEVENT
UID:69ea2a15a521e
DTSTAMP:20260423T141757Z
SUMMARY:Verstrickt. Kolonialismus und Mannheim
DTSTART:20260816T080000Z
DTEND:20260816T160000Z
END:VEVENT
END:VCALENDAR