BEGIN:VCALENDAR
VERSION:2.0
PRODID:spatie/icalendar-generator
BEGIN:VTIMEZONE
TZID:UTC
BEGIN:STANDARD
DTSTART:20250727T155009
TZOFFSETFROM:+0000
TZOFFSETTO:+0000
END:STANDARD
END:VTIMEZONE
BEGIN:VEVENT
UID:69ea3fb10d0d0
DTSTAMP:20260423T155009Z
SUMMARY:Verstrickt. Kolonialismus und Mannheim
DTSTART:20260731T080000Z
DTEND:20260731T160000Z
END:VEVENT
END:VCALENDAR