BEGIN:VCALENDAR
VERSION:2.0
PRODID:spatie/icalendar-generator
BEGIN:VTIMEZONE
TZID:UTC
BEGIN:STANDARD
DTSTART:20250727T155049
TZOFFSETFROM:+0000
TZOFFSETTO:+0000
END:STANDARD
END:VTIMEZONE
BEGIN:VEVENT
UID:69ea3fd9a02f6
DTSTAMP:20260423T155049Z
SUMMARY:Verstrickt. Kolonialismus und Mannheim
DTSTART:20260729T080000Z
DTEND:20260729T160000Z
END:VEVENT
END:VCALENDAR