BEGIN:VCALENDAR
VERSION:2.0
PRODID:spatie/icalendar-generator
BEGIN:VTIMEZONE
TZID:UTC
BEGIN:STANDARD
DTSTART:20250730T014817
TZOFFSETFROM:+0000
TZOFFSETTO:+0000
END:STANDARD
END:VTIMEZONE
BEGIN:VEVENT
UID:69ed6ee1e3787
DTSTAMP:20260426T014817Z
SUMMARY:Verstrickt. Kolonialismus und Mannheim
DTSTART:20260721T080000Z
DTEND:20260721T160000Z
END:VEVENT
END:VCALENDAR