BEGIN:VCALENDAR
VERSION:2.0
PRODID:spatie/icalendar-generator
BEGIN:VTIMEZONE
TZID:UTC
BEGIN:STANDARD
DTSTART:20250730T014127
TZOFFSETFROM:+0000
TZOFFSETTO:+0000
END:STANDARD
END:VTIMEZONE
BEGIN:VEVENT
UID:69ed6d478bc06
DTSTAMP:20260426T014127Z
SUMMARY:Verstrickt. Kolonialismus und Mannheim
DTSTART:20260718T080000Z
DTEND:20260718T160000Z
END:VEVENT
END:VCALENDAR