BEGIN:VCALENDAR
VERSION:2.0
PRODID:spatie/icalendar-generator
BEGIN:VTIMEZONE
TZID:UTC
BEGIN:STANDARD
DTSTART:20250730T014656
TZOFFSETFROM:+0000
TZOFFSETTO:+0000
END:STANDARD
END:VTIMEZONE
BEGIN:VEVENT
UID:69ed6e90b41d9
DTSTAMP:20260426T014656Z
SUMMARY:Verstrickt. Kolonialismus und Mannheim
DTSTART:20260715T080000Z
DTEND:20260715T160000Z
END:VEVENT
END:VCALENDAR