BEGIN:VCALENDAR
VERSION:2.0
PRODID:spatie/icalendar-generator
BEGIN:VTIMEZONE
TZID:UTC
BEGIN:STANDARD
DTSTART:20250730T030925
TZOFFSETFROM:+0000
TZOFFSETTO:+0000
END:STANDARD
END:VTIMEZONE
BEGIN:VEVENT
UID:69ed81e59a8cf
DTSTAMP:20260426T030925Z
SUMMARY:Verstrickt. Kolonialismus und Mannheim
DTSTART:20260620T080000Z
DTEND:20260620T160000Z
END:VEVENT
END:VCALENDAR