BEGIN:VCALENDAR
VERSION:2.0
PRODID:spatie/icalendar-generator
BEGIN:VTIMEZONE
TZID:UTC
BEGIN:STANDARD
DTSTART:20250730T031016
TZOFFSETFROM:+0000
TZOFFSETTO:+0000
END:STANDARD
END:VTIMEZONE
BEGIN:VEVENT
UID:69ed8218d1e9e
DTSTAMP:20260426T031016Z
SUMMARY:Verstrickt. Kolonialismus und Mannheim
DTSTART:20260614T080000Z
DTEND:20260614T160000Z
END:VEVENT
END:VCALENDAR