BEGIN:VCALENDAR
VERSION:2.0
PRODID:spatie/icalendar-generator
BEGIN:VTIMEZONE
TZID:UTC
BEGIN:STANDARD
DTSTART:20250730T030856
TZOFFSETFROM:+0000
TZOFFSETTO:+0000
END:STANDARD
END:VTIMEZONE
BEGIN:VEVENT
UID:69ed81c804c59
DTSTAMP:20260426T030856Z
SUMMARY:Verstrickt. Kolonialismus und Mannheim
DTSTART:20260610T080000Z
DTEND:20260610T160000Z
END:VEVENT
END:VCALENDAR