BEGIN:VCALENDAR
VERSION:2.0
PRODID:spatie/icalendar-generator
BEGIN:VTIMEZONE
TZID:UTC
BEGIN:STANDARD
DTSTART:20250730T044026
TZOFFSETFROM:+0000
TZOFFSETTO:+0000
END:STANDARD
END:VTIMEZONE
BEGIN:VEVENT
UID:69ed973a76b50
DTSTAMP:20260426T044026Z
SUMMARY:Verstrickt. Kolonialismus und Mannheim
DTSTART:20260519T080000Z
DTEND:20260519T160000Z
END:VEVENT
END:VCALENDAR