BEGIN:VCALENDAR
VERSION:2.0
PRODID:spatie/icalendar-generator
BEGIN:VTIMEZONE
TZID:UTC
BEGIN:STANDARD
DTSTART:20250728T112553
TZOFFSETFROM:+0000
TZOFFSETTO:+0000
END:STANDARD
END:VTIMEZONE
BEGIN:VEVENT
UID:69eb534146646
DTSTAMP:20260424T112553Z
SUMMARY:CRIME – Die Technik des Verbrechens
DTSTART:20260714T070000Z
DTEND:20260714T070000Z
END:VEVENT
END:VCALENDAR