BEGIN:VCALENDAR
VERSION:2.0
PRODID:spatie/icalendar-generator
BEGIN:VTIMEZONE
TZID:UTC
BEGIN:STANDARD
DTSTART:20250728T125748
TZOFFSETFROM:+0000
TZOFFSETTO:+0000
END:STANDARD
END:VTIMEZONE
BEGIN:VEVENT
UID:69eb68cc58d1d
DTSTAMP:20260424T125748Z
SUMMARY:CRIME – Die Technik des Verbrechens
DTSTART:20260708T070000Z
DTEND:20260708T070000Z
END:VEVENT
END:VCALENDAR