BEGIN:VCALENDAR
VERSION:2.0
PRODID:spatie/icalendar-generator
BEGIN:VTIMEZONE
TZID:UTC
BEGIN:STANDARD
DTSTART:20250728T125754
TZOFFSETFROM:+0000
TZOFFSETTO:+0000
END:STANDARD
END:VTIMEZONE
BEGIN:VEVENT
UID:69eb68d211063
DTSTAMP:20260424T125754Z
SUMMARY:CRIME – Die Technik des Verbrechens
DTSTART:20260704T070000Z
DTEND:20260704T070000Z
END:VEVENT
END:VCALENDAR