BEGIN:VCALENDAR
VERSION:2.0
PRODID:spatie/icalendar-generator
BEGIN:VTIMEZONE
TZID:UTC
BEGIN:STANDARD
DTSTART:20250728T125921
TZOFFSETFROM:+0000
TZOFFSETTO:+0000
END:STANDARD
END:VTIMEZONE
BEGIN:VEVENT
UID:69eb69298a803
DTSTAMP:20260424T125921Z
SUMMARY:CRIME – Die Technik des Verbrechens
DTSTART:20260625T070000Z
DTEND:20260625T070000Z
END:VEVENT
END:VCALENDAR