BEGIN:VCALENDAR
VERSION:2.0
PRODID:spatie/icalendar-generator
BEGIN:VTIMEZONE
TZID:UTC
BEGIN:STANDARD
DTSTART:20250728T124929
TZOFFSETFROM:+0000
TZOFFSETTO:+0000
END:STANDARD
END:VTIMEZONE
BEGIN:VEVENT
UID:69eb66d90d0d6
DTSTAMP:20260424T124929Z
SUMMARY:Oktobermess
DTSTART:20261010T110000Z
DTEND:20261010T200000Z
END:VEVENT
END:VCALENDAR