BEGIN:VCALENDAR
VERSION:2.0
PRODID:spatie/icalendar-generator
BEGIN:VTIMEZONE
TZID:UTC
BEGIN:STANDARD
DTSTART:20250728T141611
TZOFFSETFROM:+0000
TZOFFSETTO:+0000
END:STANDARD
END:VTIMEZONE
BEGIN:VEVENT
UID:69eb7b2b2860a
DTSTAMP:20260424T141611Z
SUMMARY:Oktobermess
DTSTART:20261009T110000Z
DTEND:20261009T200000Z
END:VEVENT
END:VCALENDAR