BEGIN:VCALENDAR
VERSION:2.0
PRODID:spatie/icalendar-generator
BEGIN:VTIMEZONE
TZID:UTC
BEGIN:STANDARD
DTSTART:20250728T141713
TZOFFSETFROM:+0000
TZOFFSETTO:+0000
END:STANDARD
END:VTIMEZONE
BEGIN:VEVENT
UID:69eb7b69b8352
DTSTAMP:20260424T141713Z
SUMMARY:Oktobermess
DTSTART:20261007T110000Z
DTEND:20261007T200000Z
END:VEVENT
END:VCALENDAR