BEGIN:VCALENDAR
VERSION:2.0
PRODID:spatie/icalendar-generator
BEGIN:VTIMEZONE
TZID:UTC
BEGIN:STANDARD
DTSTART:20250728T141453
TZOFFSETFROM:+0000
TZOFFSETTO:+0000
END:STANDARD
END:VTIMEZONE
BEGIN:VEVENT
UID:69eb7addb4c44
DTSTAMP:20260424T141453Z
SUMMARY:Maimess
DTSTART:20260506T110000Z
DTEND:20260506T210000Z
END:VEVENT
END:VCALENDAR