BEGIN:VCALENDAR
VERSION:2.0
PRODID:spatie/icalendar-generator
BEGIN:VTIMEZONE
TZID:UTC
BEGIN:STANDARD
DTSTART:20250728T153818
TZOFFSETFROM:+0000
TZOFFSETTO:+0000
END:STANDARD
END:VTIMEZONE
BEGIN:VEVENT
UID:69eb8e6aa487a
DTSTAMP:20260424T153818Z
SUMMARY:Maimess
DTSTART:20260503T110000Z
DTEND:20260503T210000Z
END:VEVENT
END:VCALENDAR