BEGIN:VCALENDAR
VERSION:2.0
PRODID:spatie/icalendar-generator
BEGIN:VTIMEZONE
TZID:UTC
BEGIN:STANDARD
DTSTART:20250728T153819
TZOFFSETFROM:+0000
TZOFFSETTO:+0000
END:STANDARD
END:VTIMEZONE
BEGIN:VEVENT
UID:69eb8e6b5bbc1
DTSTAMP:20260424T153819Z
SUMMARY:Maimess
DTSTART:20260501T110000Z
DTEND:20260501T210000Z
END:VEVENT
END:VCALENDAR