BEGIN:VCALENDAR
VERSION:2.0
PRODID:spatie/icalendar-generator
BEGIN:VTIMEZONE
TZID:UTC
BEGIN:STANDARD
DTSTART:20250728T153808
TZOFFSETFROM:+0000
TZOFFSETTO:+0000
END:STANDARD
END:VTIMEZONE
BEGIN:VEVENT
UID:69eb8e609ff72
DTSTAMP:20260424T153808Z
SUMMARY:Maimess
DTSTART:20260430T110000Z
DTEND:20260430T210000Z
END:VEVENT
END:VCALENDAR