BEGIN:VCALENDAR
VERSION:2.0
PRODID:spatie/icalendar-generator
BEGIN:VTIMEZONE
TZID:UTC
BEGIN:STANDARD
DTSTART:20250728T155727
TZOFFSETFROM:+0000
TZOFFSETTO:+0000
END:STANDARD
END:VTIMEZONE
BEGIN:VEVENT
UID:69eb92e786391
DTSTAMP:20260424T155727Z
SUMMARY:Silvestermarkt
DTSTART:20261228T100000Z
DTEND:20261228T190000Z
END:VEVENT
END:VCALENDAR