BEGIN:VCALENDAR
VERSION:2.0
PRODID:spatie/icalendar-generator
BEGIN:VTIMEZONE
TZID:UTC
BEGIN:STANDARD
DTSTART:20250728T165158
TZOFFSETFROM:+0000
TZOFFSETTO:+0000
END:STANDARD
END:VTIMEZONE
BEGIN:VEVENT
UID:69eb9fae4418e
DTSTAMP:20260424T165158Z
SUMMARY:Christbaummarkt
DTSTART:20261224T060000Z
DTEND:20261224T190000Z
END:VEVENT
END:VCALENDAR